BEGIN:VCALENDAR
VERSION:2.0
PRODID:-//NW Connect Career Hub - ECPv6.15.18//NONSGML v1.0//EN
CALSCALE:GREGORIAN
METHOD:PUBLISH
X-WR-CALNAME:NW Connect Career Hub
X-ORIGINAL-URL:https://nwconnecthub.com
X-WR-CALDESC:Events for NW Connect Career Hub
REFRESH-INTERVAL;VALUE=DURATION:PT1H
X-Robots-Tag:noindex
X-PUBLISHED-TTL:PT1H
BEGIN:VTIMEZONE
TZID:America/Los_Angeles
BEGIN:DAYLIGHT
TZOFFSETFROM:-0800
TZOFFSETTO:-0700
TZNAME:PDT
DTSTART:20250309T100000
END:DAYLIGHT
BEGIN:STANDARD
TZOFFSETFROM:-0700
TZOFFSETTO:-0800
TZNAME:PST
DTSTART:20251102T090000
END:STANDARD
BEGIN:DAYLIGHT
TZOFFSETFROM:-0800
TZOFFSETTO:-0700
TZNAME:PDT
DTSTART:20260308T100000
END:DAYLIGHT
BEGIN:STANDARD
TZOFFSETFROM:-0700
TZOFFSETTO:-0800
TZNAME:PST
DTSTART:20261101T090000
END:STANDARD
BEGIN:DAYLIGHT
TZOFFSETFROM:-0800
TZOFFSETTO:-0700
TZNAME:PDT
DTSTART:20270314T100000
END:DAYLIGHT
BEGIN:STANDARD
TZOFFSETFROM:-0700
TZOFFSETTO:-0800
TZNAME:PST
DTSTART:20271107T090000
END:STANDARD
END:VTIMEZONE
BEGIN:VEVENT
DTSTART;TZID=America/Los_Angeles:20260317T090000
DTEND;TZID=America/Los_Angeles:20260317T133000
DTSTAMP:20260424T043950
CREATED:20251216T171604Z
LAST-MODIFIED:20251216T171604Z
UID:10000023-1773738000-1773754200@nwconnecthub.com
SUMMARY:NW Youth Careers Expo
DESCRIPTION:The 22nd Annual NW Youth Careers Expo \nAttend the Expo \n \nIndividual student registration open late February \nThe annual NW Youth Careers Expo is the Northwest’s premier career-exploration experience. Each year\, we welcome about 6\,000 students from 75+ high schools in Oregon and Southwest Washington\, as well as 200+ exhibitors representing the state’s leading employers and postsecondary partners. \nThe Careers Expo shows students the region’s amazing diversity of career opportunities\, along with the skills and education needed for those jobs. The event includes hands-on learning\, demonstrations\, mock interviews\, career workshops and the chance to talk directly with professionals about college-and-career options. \nOur goals are to connect employers to their future workforce and help students make informed\, inspired decisions about their education after high school\, whether they choose a four-year university\, community college or apprenticeship training center.
URL:https://nwconnecthub.com/event/nw-youth-careers-expo/
LOCATION:Oregon Convention Center\, 777 NE Martin Luther King Jr Blvd\, Portland\, 97232\, United States
CATEGORIES:Career Exploration & Awareness
ATTACH;FMTTYPE=image/png:https://nwconnecthub.com/wp-content/uploads/2025/12/NW-Career-Expo.png
END:VEVENT
END:VCALENDAR