BEGIN:VCALENDAR
VERSION:2.0
PRODID:-//NW Connect Career Hub - ECPv6.15.18//NONSGML v1.0//EN
CALSCALE:GREGORIAN
METHOD:PUBLISH
X-ORIGINAL-URL:https://nwconnecthub.com
X-WR-CALDESC:Events for NW Connect Career Hub
REFRESH-INTERVAL;VALUE=DURATION:PT1H
X-Robots-Tag:noindex
X-PUBLISHED-TTL:PT1H
BEGIN:VTIMEZONE
TZID:America/Los_Angeles
BEGIN:DAYLIGHT
TZOFFSETFROM:-0800
TZOFFSETTO:-0700
TZNAME:PDT
DTSTART:20250309T100000
END:DAYLIGHT
BEGIN:STANDARD
TZOFFSETFROM:-0700
TZOFFSETTO:-0800
TZNAME:PST
DTSTART:20251102T090000
END:STANDARD
BEGIN:DAYLIGHT
TZOFFSETFROM:-0800
TZOFFSETTO:-0700
TZNAME:PDT
DTSTART:20260308T100000
END:DAYLIGHT
BEGIN:STANDARD
TZOFFSETFROM:-0700
TZOFFSETTO:-0800
TZNAME:PST
DTSTART:20261101T090000
END:STANDARD
BEGIN:DAYLIGHT
TZOFFSETFROM:-0800
TZOFFSETTO:-0700
TZNAME:PDT
DTSTART:20270314T100000
END:DAYLIGHT
BEGIN:STANDARD
TZOFFSETFROM:-0700
TZOFFSETTO:-0800
TZNAME:PST
DTSTART:20271107T090000
END:STANDARD
END:VTIMEZONE
BEGIN:VEVENT
DTSTART;TZID=America/Los_Angeles:20260328T100000
DTEND;TZID=America/Los_Angeles:20260328T160000
DTSTAMP:20260422T072107
CREATED:20260223T222807Z
LAST-MODIFIED:20260223T222807Z
UID:10000036-1774692000-1774713600@nwconnecthub.com
SUMMARY:Robotics Competition at Clackamas Academy of Industrial Sciences
DESCRIPTION:You are warmly invited to attend the Annual Robotics Competition at CAIS. We encourage you to share this invitation throughout your professional networks. \nThis exciting event offers a firsthand look at students applying advanced robotics skills to complete complex challenges in a dynamic\, competitive environment. It is also a powerful opportunity to experience the impact of Career and Technical Education (CTE) programs\, which foster high levels of engagement\, problem-solving ability\, teamwork\, and real-world technical skills. \nMany of the students participating in robotics are also involved in additional CTE pathways within their schools and communities. Attendees will have the chance to speak with students about their projects\, aspirations\, and the career pathways they are pursuing using these in-demand skills. \nYour presence helps support student achievement and strengthens the connection between education\, industry\, and the broader community. \nThank you for your continued support of our students and programs. We hope you can join us for this inspiring event.
URL:https://nwconnecthub.com/event/robotics-competition-at-clackamas-academy-of-industrial-sciences/2026-03-28/
LOCATION:Clackamas Academy of Industrial Sciences\, 1306 12th St\, Oregon City\, 97045\, United States
ATTACH;FMTTYPE=image/png:https://nwconnecthub.com/wp-content/uploads/2026/02/CAIS-Robotics-Comp-1.png
END:VEVENT
BEGIN:VEVENT
DTSTART;TZID=America/Los_Angeles:20260327T110000
DTEND;TZID=America/Los_Angeles:20260327T190000
DTSTAMP:20260422T072107
CREATED:20260223T222807Z
LAST-MODIFIED:20260223T222807Z
UID:10000035-1774609200-1774638000@nwconnecthub.com
SUMMARY:Robotics Competition at Clackamas Academy of Industrial Sciences
DESCRIPTION:You are warmly invited to attend the Annual Robotics Competition at CAIS. We encourage you to share this invitation throughout your professional networks. \nThis exciting event offers a firsthand look at students applying advanced robotics skills to complete complex challenges in a dynamic\, competitive environment. It is also a powerful opportunity to experience the impact of Career and Technical Education (CTE) programs\, which foster high levels of engagement\, problem-solving ability\, teamwork\, and real-world technical skills. \nMany of the students participating in robotics are also involved in additional CTE pathways within their schools and communities. Attendees will have the chance to speak with students about their projects\, aspirations\, and the career pathways they are pursuing using these in-demand skills. \nYour presence helps support student achievement and strengthens the connection between education\, industry\, and the broader community. \nThank you for your continued support of our students and programs. We hope you can join us for this inspiring event.
URL:https://nwconnecthub.com/event/robotics-competition-at-clackamas-academy-of-industrial-sciences/2026-03-27/
LOCATION:Clackamas Academy of Industrial Sciences\, 1306 12th St\, Oregon City\, 97045\, United States
ATTACH;FMTTYPE=image/png:https://nwconnecthub.com/wp-content/uploads/2026/02/CAIS-Robotics-Comp-1.png
END:VEVENT
END:VCALENDAR