BEGIN:VCALENDAR
VERSION:2.0
PRODID:-//NW Connect Career Hub - ECPv6.15.18//NONSGML v1.0//EN
CALSCALE:GREGORIAN
METHOD:PUBLISH
X-WR-CALNAME:NW Connect Career Hub
X-ORIGINAL-URL:https://nwconnecthub.com
X-WR-CALDESC:Events for NW Connect Career Hub
REFRESH-INTERVAL;VALUE=DURATION:PT1H
X-Robots-Tag:noindex
X-PUBLISHED-TTL:PT1H
BEGIN:VTIMEZONE
TZID:America/Los_Angeles
BEGIN:DAYLIGHT
TZOFFSETFROM:-0800
TZOFFSETTO:-0700
TZNAME:PDT
DTSTART:20250309T100000
END:DAYLIGHT
BEGIN:STANDARD
TZOFFSETFROM:-0700
TZOFFSETTO:-0800
TZNAME:PST
DTSTART:20251102T090000
END:STANDARD
BEGIN:DAYLIGHT
TZOFFSETFROM:-0800
TZOFFSETTO:-0700
TZNAME:PDT
DTSTART:20260308T100000
END:DAYLIGHT
BEGIN:STANDARD
TZOFFSETFROM:-0700
TZOFFSETTO:-0800
TZNAME:PST
DTSTART:20261101T090000
END:STANDARD
BEGIN:DAYLIGHT
TZOFFSETFROM:-0800
TZOFFSETTO:-0700
TZNAME:PDT
DTSTART:20270314T100000
END:DAYLIGHT
BEGIN:STANDARD
TZOFFSETFROM:-0700
TZOFFSETTO:-0800
TZNAME:PST
DTSTART:20271107T090000
END:STANDARD
END:VTIMEZONE
BEGIN:VEVENT
DTSTART;TZID=America/Los_Angeles:20260207T140000
DTEND;TZID=America/Los_Angeles:20260207T170000
DTSTAMP:20260422T030626
CREATED:20260202T233643Z
LAST-MODIFIED:20260202T233643Z
UID:10000033-1770472800-1770483600@nwconnecthub.com
SUMMARY:The 3rd Annual Todos Juntos Community Carnival & Fundraiser
DESCRIPTION:The 3rd Annual Todos Juntos Community Carnival is happening this Saturday in Estacada\, and we are excited to welcome families and community members from across the area. \nIf this is your first time hearing about it\, the Todos Juntos Community Carnival is a family-friendly afternoon designed to bring people together through fun\, connection\, and community support. The event includes carnival-style games\, activities for kids of all ages\, a raffle\, and a silent auction featuring donated items from local partners. \nBeyond the fun\, the carnival supports the work Todos Juntos does year-round with children\, youth\, and families across rural Clackamas County. Funds raised help sustain programs focused on parenting support\, youth development\, and strengthening family connections in our communities. \nWhether you are coming with children\, meeting friends\, or simply looking for a positive way to spend your Saturday afternoon\, this event is open to everyone and designed to be welcoming\, engaging\, and enjoyable. \nWe hope you’ll join us this Saturday for an afternoon of fun\, connection\, and community. Whether this is your first Todos Juntos event or you’ve joined us in years past\, we would love to see you there and celebrate together. \nBring your family\, invite a friend\, and come experience what makes this event — and our community — so special. \nSaturday\, February 7 | 2:00–5:00 PM\nGrace Crossing Bible Church\n29101 SE Eagle Creek Rd\, Estacada\, OR 97023 \nThank you for supporting Todos Juntos and the work we do year-round to strengthen children\, youth\, and families across rural Clackamas County. We look forward to welcoming you and celebrating our community together at this year’s carnival.
URL:https://nwconnecthub.com/event/the-3rd-annual-todos-juntos-community-carnival-fundraiser/
LOCATION:Oregon
ATTACH;FMTTYPE=image/png:https://nwconnecthub.com/wp-content/uploads/2026/02/unnamed-1.png
END:VEVENT
BEGIN:VEVENT
DTSTART;TZID=America/Los_Angeles:20260211T090000
DTEND;TZID=America/Los_Angeles:20260211T120000
DTSTAMP:20260422T030626
CREATED:20251029T153102Z
LAST-MODIFIED:20251029T153102Z
UID:10000019-1770800400-1770811200@nwconnecthub.com
SUMMARY:Tumwata Career Day
DESCRIPTION:You are invited to speak at Tumwata Middle School’s Career Guest Speaker Day\, happening on Wednesday\, February 11. On this special day\, we will be hosting a variety of guest speakers to share a brief presentation about a career path. We would love for you to visit our school and talk with our students about your career experiences and post-high school education journey. \n–Helpful Information–\nThe event will be held on February 11th at 14133 S Donovan Rd in Oregon City.\nPlan to arrive to Tumwata by 9:00am and stay until 11:45am.\nPresenters will present during three sessions\, about 25 minutes each.\nThere will be between 25 – 35 students\, grades 6 – 8\, in each session.\nThere will be a classroom teacher to support technology and classroom management.\nPresentation suggestions: education preparation for your career; important skills for the job; job duties and benefits; what is fun or interesting about your job; what is difficult or challenging; how your job has impacted you.
URL:https://nwconnecthub.com/event/tumwata-career-day/
LOCATION:Tumwata Middle School\, 14133 S Donovan Rd\,\, Oregon City\, OR\, 97045\, United States
CATEGORIES:Career Exploration & Awareness
ORGANIZER;CN="Christina Magana":MAILTO:christina.magana@orecity.k12.or.us
END:VEVENT
BEGIN:VEVENT
DTSTART;TZID=America/Los_Angeles:20260211T180000
DTEND;TZID=America/Los_Angeles:20260211T200000
DTSTAMP:20260422T030626
CREATED:20251205T210544Z
LAST-MODIFIED:20251205T210544Z
UID:10000022-1770832800-1770840000@nwconnecthub.com
SUMMARY:Oregon City School District - College & Career Fair
DESCRIPTION:Joint event for the Oregon City School District high schools. Partnered with our academic planning night\, we are hosting a college and career fair for students and families. We are looking for industry partners who want to connect to students and families about opportunties post-high school.
URL:https://nwconnecthub.com/event/oregon-city-school-district-college-career-fair/
LOCATION:Oregon City High School\, 19761 S Beavercreek Rd\, Oregon City\, OR\, 97045\, United States
ORGANIZER;CN="Erica Frafjord":MAILTO:erica.frafjord@orecity.k12.or.us
END:VEVENT
BEGIN:VEVENT
DTSTART;TZID=America/Los_Angeles:20260224T093000
DTEND;TZID=America/Los_Angeles:20260224T163000
DTSTAMP:20260422T030626
CREATED:20260127T161213Z
LAST-MODIFIED:20260225T002520Z
UID:10000031-1771925400-1771950600@nwconnecthub.com
SUMMARY:Oregon Engineers Week
DESCRIPTION:https://www.oregonengineersweek.org/ \n \nThis event will include an Exhibit Hall and career fair\, optional morning sessions with panel discussions\, a banquet lunch with keynote speaker\, and field trips\, all geared towards sophomore and junior high school students. \nTentative event schedule: \n9:30 –11:30am Student / teacher sign-in \n9:30 – 11:45am Exhibit Hall / Career Expo \n10:00 – 11:45am Morning Seminars  \n11:45 – 1:30pm Banquet Lunch  \n1:45 – 4:30pm Field trips  \n4:00 – 4:30pm Wrap-up \n \n \n2026 Location:\nDouble Tree Hotel\, Lloyd Center \n1000 NE Multnomah Street\, Portland\, OR 97232
URL:https://nwconnecthub.com/event/oregon-engineers-week/
LOCATION:Oregon
END:VEVENT
BEGIN:VEVENT
DTSTART;TZID=America/Los_Angeles:20260226T173000
DTEND;TZID=America/Los_Angeles:20260226T200000
DTSTAMP:20260422T030626
CREATED:20260129T034858Z
LAST-MODIFIED:20260227T030051Z
UID:10000032-1772127000-1772136000@nwconnecthub.com
SUMMARY:Sabin-Schellenberg Annual Student Showcase
DESCRIPTION:The Sabin-Schellenberg Professional Technical Center would like to invite you to our annual Open House and Showcase to learn about the career-focused elective courses available to all North Clackamas high school students.  \nYou will see 17 career & technical education programs such as Architecture & Design\, Automotive\, Building Construction\, Cosmetology and Health Services. Come and observe student demonstrations\, meet the teachers\, explore our program options\, and hear how students can earn college credit while receiving career related training. Many exciting hands-on classes are available for students forecasting for their next school year’s courses. \n We hope to see you and your students on Thursday\, February 26 from 5:30 – 8:00 pm. Programs on both campuses will be open and a shuttle bus will be available between campuses. \n \nSabin (North) Campus: 14211 SE Johnson Rd. \nSchellenberg (South) Campus: 14450 SE Johnson Rd.
URL:https://nwconnecthub.com/event/sabin-schellenberg-annual-student-showcase/
LOCATION:Sabin-Schellenberg Professional Technical Center (South Campus)\, 14450 SE Johnson Rd\, Portland\, OR\, United States
GEO:45.418626;-122.580314
X-APPLE-STRUCTURED-LOCATION;VALUE=URI;X-ADDRESS=Sabin-Schellenberg Professional Technical Center (South Campus) 14450 SE Johnson Rd Portland OR United States;X-APPLE-RADIUS=500;X-TITLE=14450 SE Johnson Rd:geo:-122.580314,45.418626
END:VEVENT
END:VCALENDAR