BEGIN:VCALENDAR
VERSION:2.0
PRODID:-//NW Connect Career Hub - ECPv6.15.18//NONSGML v1.0//EN
CALSCALE:GREGORIAN
METHOD:PUBLISH
X-ORIGINAL-URL:https://nwconnecthub.com
X-WR-CALDESC:Events for NW Connect Career Hub
REFRESH-INTERVAL;VALUE=DURATION:PT1H
X-Robots-Tag:noindex
X-PUBLISHED-TTL:PT1H
BEGIN:VTIMEZONE
TZID:America/Los_Angeles
BEGIN:DAYLIGHT
TZOFFSETFROM:-0800
TZOFFSETTO:-0700
TZNAME:PDT
DTSTART:20240310T100000
END:DAYLIGHT
BEGIN:STANDARD
TZOFFSETFROM:-0700
TZOFFSETTO:-0800
TZNAME:PST
DTSTART:20241103T090000
END:STANDARD
BEGIN:DAYLIGHT
TZOFFSETFROM:-0800
TZOFFSETTO:-0700
TZNAME:PDT
DTSTART:20250309T100000
END:DAYLIGHT
BEGIN:STANDARD
TZOFFSETFROM:-0700
TZOFFSETTO:-0800
TZNAME:PST
DTSTART:20251102T090000
END:STANDARD
BEGIN:DAYLIGHT
TZOFFSETFROM:-0800
TZOFFSETTO:-0700
TZNAME:PDT
DTSTART:20260308T100000
END:DAYLIGHT
BEGIN:STANDARD
TZOFFSETFROM:-0700
TZOFFSETTO:-0800
TZNAME:PST
DTSTART:20261101T090000
END:STANDARD
END:VTIMEZONE
BEGIN:VEVENT
DTSTART;VALUE=DATE:20251205
DTEND;VALUE=DATE:20251206
DTSTAMP:20260422T061229
CREATED:20251007T172242Z
LAST-MODIFIED:20251021T140822Z
UID:10000015-1764892800-1764979199@nwconnecthub.com
SUMMARY:Union Apprenticeship Coordinators Information Panel - Learn about specific info from each apprenticeship program in our area
DESCRIPTION:Union Apprenticeship Coordinators Information Panel \n\n\nMeet the coordinators and learn specific information about each apprenticeship program in our area. \n\n\nYou will learn about program openings\, how to apply\, tips and tricks for interviewing\, wages and a general overview of each program. \n\n\nDecember 5\, 2025\, 9:30am – 11:00am \n\n\nSprinkler Fitters 669\, 14325 NE Airport Way\, Suite 115\, Portland\, OR 97230 \n\n\nhttps://www.accessingunionapprenticeships.org/event/union-apprenticeship-coordinators-public-informational-session-4/
URL:https://nwconnecthub.com/event/union-apprenticeship-coordinators-information-panel-learn-about-specific-info-from-each-apprenticeship-program-in-our-area-2/
LOCATION:Oregon
END:VEVENT
BEGIN:VEVENT
DTSTART;TZID=America/Los_Angeles:20251205T093000
DTEND;TZID=America/Los_Angeles:20251205T110000
DTSTAMP:20260422T061229
CREATED:20251007T172241Z
LAST-MODIFIED:20251205T182106Z
UID:10000014-1764927000-1764932400@nwconnecthub.com
SUMMARY:Union Apprenticeship Coordinators Information Panel - Learn about specific info from each apprenticeship program in our area
DESCRIPTION:Union Apprenticeship Coordinators Information Panel \n \n\n\nMeet the coordinators and learn specific information about each apprenticeship program in our area. \n\n\nYou will learn about program openings\, how to apply\, tips and tricks for interviewing\, wages and a general overview of each program. \n\n\nDecember 5\, 2025\, 9:30am – 11:00am \n\n\nSprinkler Fitters 669\, 14325 NE Airport Way\, Suite 115\, Portland\, OR 97230 \n\n\nhttps://www.accessingunionapprenticeships.org/event/union-apprenticeship-coordinators-public-informational-session-4/
URL:https://nwconnecthub.com/event/union-apprenticeship-coordinators-information-panel-learn-about-specific-info-from-each-apprenticeship-program-in-our-area/
LOCATION:Oregon
END:VEVENT
BEGIN:VEVENT
DTSTART;TZID=America/Los_Angeles:20251206T100000
DTEND;TZID=America/Los_Angeles:20251206T140000
DTSTAMP:20260422T061229
CREATED:20251027T182504Z
LAST-MODIFIED:20251027T182823Z
UID:10000018-1765015200-1765029600@nwconnecthub.com
SUMMARY:Wildlife Habitat Improvement at Clackamas Community College’s Early Learning Center
DESCRIPTION:Continue improving the back areas of the ELC with Rivers of Life Center\, then take a tour of a nearby water treatment plant. The service-learning work party will likely go from 10:00 to 12:00. Then we’ll break for lunch and tour the water treatment plant from 1:00-2:00pm. Stay tuned for details!
URL:https://nwconnecthub.com/event/wildlife-habitat-improvement-at-clackamas-community-colleges-early-learning-center-2/
LOCATION:Clackamas Community College Environmental Learning Center\, 21 Inskeep Dr.\, Oregon City\, 97045\, United States
CATEGORIES:Work-Based Learning Opportunities
ATTACH;FMTTYPE=image/png:https://nwconnecthub.com/wp-content/uploads/2025/10/STREAMN-Team-Logo-2-HORIZONTAL-96dpi-crop-2.png
ORGANIZER;CN="Rick Reynolds":MAILTO:rick@engagingeverystudent.com
END:VEVENT
END:VCALENDAR