BEGIN:VCALENDAR
VERSION:2.0
PRODID:-//NW Connect Career Hub - ECPv6.15.18//NONSGML v1.0//EN
CALSCALE:GREGORIAN
METHOD:PUBLISH
X-WR-CALNAME:NW Connect Career Hub
X-ORIGINAL-URL:https://nwconnecthub.com
X-WR-CALDESC:Events for NW Connect Career Hub
REFRESH-INTERVAL;VALUE=DURATION:PT1H
X-Robots-Tag:noindex
X-PUBLISHED-TTL:PT1H
BEGIN:VTIMEZONE
TZID:America/Los_Angeles
BEGIN:DAYLIGHT
TZOFFSETFROM:-0800
TZOFFSETTO:-0700
TZNAME:PDT
DTSTART:20250309T100000
END:DAYLIGHT
BEGIN:STANDARD
TZOFFSETFROM:-0700
TZOFFSETTO:-0800
TZNAME:PST
DTSTART:20251102T090000
END:STANDARD
BEGIN:DAYLIGHT
TZOFFSETFROM:-0800
TZOFFSETTO:-0700
TZNAME:PDT
DTSTART:20260308T100000
END:DAYLIGHT
BEGIN:STANDARD
TZOFFSETFROM:-0700
TZOFFSETTO:-0800
TZNAME:PST
DTSTART:20261101T090000
END:STANDARD
BEGIN:DAYLIGHT
TZOFFSETFROM:-0800
TZOFFSETTO:-0700
TZNAME:PDT
DTSTART:20270314T100000
END:DAYLIGHT
BEGIN:STANDARD
TZOFFSETFROM:-0700
TZOFFSETTO:-0800
TZNAME:PST
DTSTART:20271107T090000
END:STANDARD
END:VTIMEZONE
BEGIN:VEVENT
DTSTART;TZID=America/Los_Angeles:20260407T153000
DTEND;TZID=America/Los_Angeles:20260407T190000
DTSTAMP:20260420T111055
CREATED:20251105T003211Z
LAST-MODIFIED:20251105T003211Z
UID:10000016-1775575800-1775588400@nwconnecthub.com
SUMMARY:CTE Showcase & Career Fair
DESCRIPTION:Explore your future at the CTE Showcase & Career Fair! Connect with college programs\, local employers\, and hands-on activities that bring careers to life. Whether you’re into health\, tech\, trades\, or just curious about what’s next after high school\, this event helps every student discover new opportunities and career pathways.
URL:https://nwconnecthub.com/event/cte-showcase-career-fair/
LOCATION:Clackamas Community College – Holden Industrial Technology Center\, 19600 Molalla Avenue\, Oregon City\, OR\, 97045\, United States
CATEGORIES:Career Exploration & Awareness
ATTACH;FMTTYPE=image/jpeg:https://nwconnecthub.com/wp-content/uploads/2025/10/CTE-Showcase-Intel.jpeg
ORGANIZER;CN="Tom Brown":MAILTO:thomasb@clackamas.edu
END:VEVENT
BEGIN:VEVENT
DTSTART;TZID=America/Los_Angeles:20260407T153000
DTEND;TZID=America/Los_Angeles:20260407T190000
DTSTAMP:20260420T111055
CREATED:20260211T221604Z
LAST-MODIFIED:20260408T014850Z
UID:10000034-1775575800-1775588400@nwconnecthub.com
SUMMARY:CTE Showcase at Clackamas Community College
DESCRIPTION:Career Technical Education Showcase and Career Fair\nDon’t just learn about the future — learn how it’s being built! From mastering 21st-century tools to gaining a professional edge\, see how we turn student curiosity into industry expertise. \nRegister here:https://www.clackamas.edu/landing-pages/career-technical-education-showcase \n \nFree tuition waivers!\nParticipants at this event may receive one of 25 FREE tuition waivers good for up to four credits at CCC — a value of $520. \n \nFeatured programs:\n\nApprenticeship \nAuto body/collision repair and refinishing technology \nAutomotive service technology \nBusiness \nComputer science\nDigital media communications \nEducation \nElectronics engineering technology \nHealth sciences \nHorticulture \nHuman services \nIndustrial maintenance technology \nMachine tool technology/Computer-aided manufacturing\nMusic technology \nRenewable energy technology \nWater and environmental technology \nWelding\nWildland fire
URL:https://nwconnecthub.com/event/cte-showcase-at-clackamas-community-college/
LOCATION:Clackamas Community College\, 19146 Molalla Ave\, Oregon City\, OR\, United States
GEO:45.332423;-122.587285
X-APPLE-STRUCTURED-LOCATION;VALUE=URI;X-ADDRESS=Clackamas Community College 19146 Molalla Ave Oregon City OR United States;X-APPLE-RADIUS=500;X-TITLE=19146 Molalla Ave:geo:-122.587285,45.332423
END:VEVENT
BEGIN:VEVENT
DTSTART;TZID=America/Los_Angeles:20260415T170000
DTEND;TZID=America/Los_Angeles:20260415T190000
DTSTAMP:20260420T111055
CREATED:20260413T222352Z
LAST-MODIFIED:20260413T222352Z
UID:10000039-1776272400-1776279600@nwconnecthub.com
SUMMARY:Clackamas Community College Health Sciences Preview Night
DESCRIPTION:Wednesday\, April 15th\, 5pm – 7pm\nExplore six in-demand programs\nEngage in interactive demonstrations\nGet advising\, admissions\, and financial aid support \nLink to Flyer: https://drive.google.com/file/d/1jZRyiUu_IkpHDiDX2NicAvQi0i6fwho-/view?usp=sharing
URL:https://nwconnecthub.com/event/clackamas-community-college-health-sciences-preview-night/
LOCATION:Clackamas Community College – Harmony Campus\, 7738 SE Harmony Rd - Harmony West Building\, Milwaukie\, 97222\, United States
ATTACH;FMTTYPE=image/png:https://nwconnecthub.com/wp-content/uploads/2026/04/Health-Sciences-Preview-Night-Screenshot.png
END:VEVENT
BEGIN:VEVENT
DTSTART;TZID=America/Los_Angeles:20260415T180000
DTEND;TZID=America/Los_Angeles:20260415T190000
DTSTAMP:20260420T111055
CREATED:20260406T210018Z
LAST-MODIFIED:20260406T210018Z
UID:10000038-1776276000-1776279600@nwconnecthub.com
SUMMARY:Western Oregon University - Early Childhood Program Info Night (Zoom meeting)
DESCRIPTION:Join us for an informative Zoom session about our flexible\, undergraduate degree in Early Childhood and Early Intervention. \nLearn about our exciting opportunities! \nEC bachelor’s degree & EI/ECSE licensure program. \nComplete your student teaching on the job. \nReceive support from faculty who have worked & supported non-traditional students.
URL:https://nwconnecthub.com/event/western-oregon-university-early-childhood-program-info-night-zoom-meeting/
LOCATION:Oregon
ATTACH;FMTTYPE=image/png:https://nwconnecthub.com/wp-content/uploads/2026/04/WOU-Screenshot.png
END:VEVENT
BEGIN:VEVENT
DTSTART;VALUE=DATE:20260423
DTEND;VALUE=DATE:20260424
DTSTAMP:20260420T111055
CREATED:20260112T230448Z
LAST-MODIFIED:20260420T180613Z
UID:10000024-1776902400-1776988799@nwconnecthub.com
SUMMARY:Clackamas Community College High School Partner Luncheon\, scheduled for April 23rd on the CCC Oregon City campus
DESCRIPTION:This event is one of our favorite opportunities to gather\, celebrate partnerships\, and connect in person. A save-the-date invitation will be coming your way soon—we hope you’ll plan to join us!
URL:https://nwconnecthub.com/event/clackamas-community-college-high-school-partner-luncheon-scheduled-for-april-23rd-on-the-ccc-oregon-city-campus/
LOCATION:Oregon
END:VEVENT
BEGIN:VEVENT
DTSTART;TZID=America/Los_Angeles:20260423T173000
DTEND;TZID=America/Los_Angeles:20260423T190000
DTSTAMP:20260420T111055
CREATED:20260117T000357Z
LAST-MODIFIED:20260420T180614Z
UID:10000029-1776965400-1776970800@nwconnecthub.com
SUMMARY:Sabin-Schellenberg Professional Technical Center Campus Tour
DESCRIPTION:North Clackamas Parent\, \nSeventeen career and technical programs are available to all North Clackamas high school students at the Sabin-Schellenberg Professional Technical Center. Students explore their passions and interests\, and gain skills and knowledge in industry areas such as automotive\, cosmetology\, business & management\, and health services.  \n \nParents and students who are interested in learning more about the career and technical education opportunities available at SSC are invited to attend one of our upcoming tours.  If you are interested in attending\, please select a tour time and date on this form.   \nOur next tour will be Wednesday\, January 21 at 5:30pm. Tours will begin on the South Campus at 14450 SE Johnson Road in Milwaukie.
URL:https://nwconnecthub.com/event/sabin-schellenberg-professional-technical-center-campus-tour-3/
LOCATION:14450 SE Johnson Road in Milwaukie
END:VEVENT
BEGIN:VEVENT
DTSTART;TZID=America/Los_Angeles:20260429T130000
DTEND;TZID=America/Los_Angeles:20260429T160000
DTSTAMP:20260420T111055
CREATED:20260402T154142Z
LAST-MODIFIED:20260402T154816Z
UID:10000037-1777467600-1777478400@nwconnecthub.com
SUMMARY:Shipping Education
DESCRIPTION:Start your journey into a rewarding maritime career right here in the Pacific Northwest! Meet industry professionals from tug and barge operations\, vessel agencies\, launch services\, and marine fire and rescue. Don’t miss this opportunity to connect directly with professionals\, explore high-demand career paths\, and get expert advice to help you land your first role in the industry! \nLink to Flier: https://drive.google.com/file/d/1Jw9FgXW-OZlTECIDNFLXu5i0hWVeZlHf/view?usp=drive_link \n 
URL:https://nwconnecthub.com/event/shipping-education/
LOCATION:Oregon
CATEGORIES:Career Exploration & Awareness
ATTACH;FMTTYPE=image/png:https://nwconnecthub.com/wp-content/uploads/2026/04/Shipping-Educ.-Screenshot-1.png
END:VEVENT
BEGIN:VEVENT
DTSTART;TZID=America/Los_Angeles:20260514T173000
DTEND;TZID=America/Los_Angeles:20260514T190000
DTSTAMP:20260420T111055
CREATED:20260117T000357Z
LAST-MODIFIED:20260420T180614Z
UID:10000030-1778779800-1778785200@nwconnecthub.com
SUMMARY:Sabin-Schellenberg Professional Technical Center Campus Tour
DESCRIPTION:North Clackamas Parent\, \nSeventeen career and technical programs are available to all North Clackamas high school students at the Sabin-Schellenberg Professional Technical Center. Students explore their passions and interests\, and gain skills and knowledge in industry areas such as automotive\, cosmetology\, business & management\, and health services.  \n \nParents and students who are interested in learning more about the career and technical education opportunities available at SSC are invited to attend one of our upcoming tours.  If you are interested in attending\, please select a tour time and date on this form.   \nOur next tour will be Wednesday\, January 21 at 5:30pm. Tours will begin on the South Campus at 14450 SE Johnson Road in Milwaukie.
URL:https://nwconnecthub.com/event/sabin-schellenberg-professional-technical-center-campus-tour-4/
LOCATION:14450 SE Johnson Road in Milwaukie
END:VEVENT
BEGIN:VEVENT
DTSTART;TZID=America/Los_Angeles:20260515T083000
DTEND;TZID=America/Los_Angeles:20260516T140000
DTSTAMP:20260420T111055
CREATED:20260413T224426Z
LAST-MODIFIED:20260413T224426Z
UID:10000040-1778833800-1778940000@nwconnecthub.com
SUMMARY:Oregon Tradeswomen Career Fair at Portland Expo Center
DESCRIPTION:Oregon Tradeswomen’s Career Fair is a FREE\, interactive\, trades-focused career event highlighting apprenticeship and debt-free training options for lucrative career pathways. It is one of the most exciting and engaging career fairs in our region dedicated to the skilled trades industry! \nThis event connects thousands of students and job seekers to the wide variety of exciting careers in the skilled trades and supports local industry and businesses find qualified\, skilled workers\, and is open to everyone!
URL:https://nwconnecthub.com/event/oregon-tradeswomen-career-fair-at-portland-expo-center/
LOCATION:Portland Expo Center\, 2025 N. Expo Rd\, Portland\, Oregon\, 97217
ATTACH;FMTTYPE=image/jpeg:https://nwconnecthub.com/wp-content/uploads/2026/04/2026-OTW-Career-Fair-Save-The-Date-postcard.jpg
END:VEVENT
BEGIN:VEVENT
DTSTART;VALUE=DATE:20260810
DTEND;VALUE=DATE:20260811
DTSTAMP:20260420T111055
CREATED:20260112T230449Z
LAST-MODIFIED:20260420T180614Z
UID:10000025-1786320000-1786406399@nwconnecthub.com
SUMMARY:Clackamas Community College CTE Summer Camp
DESCRIPTION:Get ready to help recruit\nstudents and mark your\ncalendars! CCC’s fun and\nexciting Career and Technical\nEducation (CTE) Summer Camp\nis scheduled for August 10th-\n13th\, from 9 a.m. to 3 p.m.\nThe camp is open to students\nwho live and attend school\nin Clackamas County and are\nentering 9th through 12th\ngrade in the fall of 2026. Space\nis limited\, and placement will\nbe determined through a\nweighted lottery. Lunch will be\nprovided\, and transportation\nassistance from the student’s\nhigh school to the college is\navailable. More information\nabout the application process\nand camp course offerings will\nbe available in early March.\nIf you have any questions\nabout CTE Summer Camps\,\nplease email hsconnections@
URL:https://nwconnecthub.com/event/clackamas-community-college-cte-summer-camp/
LOCATION:Clackamas Community College\, 19146 Molalla Ave\, Oregon City\, OR\, United States
GEO:45.332423;-122.587285
X-APPLE-STRUCTURED-LOCATION;VALUE=URI;X-ADDRESS=Clackamas Community College 19146 Molalla Ave Oregon City OR United States;X-APPLE-RADIUS=500;X-TITLE=19146 Molalla Ave:geo:-122.587285,45.332423
END:VEVENT
BEGIN:VEVENT
DTSTART;VALUE=DATE:20261002
DTEND;VALUE=DATE:20261003
DTSTAMP:20260420T111055
CREATED:20260113T231922Z
LAST-MODIFIED:20260420T180614Z
UID:10000026-1790899200-1790985599@nwconnecthub.com
SUMMARY:Manufacturing Day - Taste of Trades Event at Clackamas C.C.
DESCRIPTION:
URL:https://nwconnecthub.com/event/manufacturing-day-taste-of-trades-event-at-clackamas-c-c/
LOCATION:Clackamas Community College\, 19146 Molalla Ave\, Oregon City\, OR\, United States
GEO:45.332423;-122.587285
X-APPLE-STRUCTURED-LOCATION;VALUE=URI;X-ADDRESS=Clackamas Community College 19146 Molalla Ave Oregon City OR United States;X-APPLE-RADIUS=500;X-TITLE=19146 Molalla Ave:geo:-122.587285,45.332423
END:VEVENT
END:VCALENDAR